BEGIN:VCALENDAR
VERSION:2.0
PRODID:-//Biblioteca Pilarin Bayés - ECPv5.16.1.1//NONSGML v1.0//EN
CALSCALE:GREGORIAN
METHOD:PUBLISH
X-WR-CALNAME:Biblioteca Pilarin Bayés
X-ORIGINAL-URL:https://www.bibliotecapilarinbayes.cat
X-WR-CALDESC:Esdeveniments per Biblioteca Pilarin Bayés
REFRESH-INTERVAL;VALUE=DURATION:PT1H
X-Robots-Tag:noindex
X-PUBLISHED-TTL:PT1H
BEGIN:VTIMEZONE
TZID:Europe/Helsinki
BEGIN:DAYLIGHT
TZOFFSETFROM:+0200
TZOFFSETTO:+0300
TZNAME:EEST
DTSTART:20260329T010000
END:DAYLIGHT
BEGIN:STANDARD
TZOFFSETFROM:+0300
TZOFFSETTO:+0200
TZNAME:EET
DTSTART:20261025T010000
END:STANDARD
END:VTIMEZONE
BEGIN:VEVENT
DTSTART;TZID=Europe/Helsinki:20260513T110000
DTEND;TZID=Europe/Helsinki:20260513T110000
DTSTAMP:20260424T171605
CREATED:20260416T085903Z
LAST-MODIFIED:20260410T093415Z
UID:35500-1778670000-1778670000@www.bibliotecapilarinbayes.cat
SUMMARY:Club de lectura de Novel·la Matins: Canteu\, esperits\, canteu de Jesmyn Ward
DESCRIPTION:A la trobada del mes de maig del Club de lectura de Novel·la Matins es comentarà el llibre: \nCanteu\, esperits\, canteu de Jesmyn Ward \n«En Jojo és un nen mestís que viu amb els seus avis i la seva germana. La seva mare és una dona absent que té visions del seu germà mort i que viu perdudament enamorada del seu marit\, que compleix condemna a la presó del comtat. Quan ella s’assabenta que està a punt de ser alliberat\, decideix agafar els seus dos fills i emprendre un viatge introspectiu i salvatge que els obliga a relacionar-se per primera vegada com a família. A la presó\, en Jojo es troba en Richie\, un noi amb qui descobreix el llegat de l’esclavitud però també la importància de la reconciliació amb el passat. \nAmb un llenguatge ric i musical Jesmyn Ward ens ofereix una road movie literària imponent que parla des dels marges. Canteu\, esperits\, canteu és l’últim text de l’única autora premiada dues vegades amb el National Book Award.» \n(Sinopsi del llibre) \nNational book Award 2017 \nClub de lectura a càrrec d’en Joan Carles. \nPer assistir al club cal inscripció prèvia. \nMés info: \n\nCapellas\, Lucas. “Jesmyn Ward. El lloc dels morts\, el lloc dels vius” a Núvol. El digital de cultura (27/08/2018)\n\n\nLa trobada del Club de lectura de Novel·la Matins es farà: \nDia: Dimecres\, 13 de maig de 2026 \nHora: 11:00 h. \nLloc: Sala d’actes U d’octubre. Biblioteca Pilarin Bayés de Vic
URL:https://www.bibliotecapilarinbayes.cat/activitat/club-de-lectura-de-novella-matins-canteu-esperits-canteu-de-jesmyn-ward/
LOCATION:Sala d’actes U d’octubre
CATEGORIES:Adults,Clubs de lectura
ATTACH;FMTTYPE=image/jpeg:https://www.bibliotecapilarinbayes.cat/wp-content/uploads/2026/04/canteu-esperits-canteu.jpg
END:VEVENT
END:VCALENDAR