BEGIN:VCALENDAR
VERSION:2.0
PRODID:-//Biblioteca Pilarin Bayés - ECPv5.16.1.1//NONSGML v1.0//EN
CALSCALE:GREGORIAN
METHOD:PUBLISH
X-ORIGINAL-URL:https://www.bibliotecapilarinbayes.cat
X-WR-CALDESC:Esdeveniments per Biblioteca Pilarin Bayés
REFRESH-INTERVAL;VALUE=DURATION:PT1H
X-Robots-Tag:noindex
X-PUBLISHED-TTL:PT1H
BEGIN:VTIMEZONE
TZID:Europe/Helsinki
BEGIN:DAYLIGHT
TZOFFSETFROM:+0200
TZOFFSETTO:+0300
TZNAME:EEST
DTSTART:20220327T010000
END:DAYLIGHT
BEGIN:STANDARD
TZOFFSETFROM:+0300
TZOFFSETTO:+0200
TZNAME:EET
DTSTART:20221030T010000
END:STANDARD
END:VTIMEZONE
BEGIN:VEVENT
DTSTART;TZID=Europe/Helsinki:20221116T190000
DTEND;TZID=Europe/Helsinki:20221116T200000
DTSTAMP:20260425T041842
CREATED:20221104T122519Z
LAST-MODIFIED:20221111T100522Z
UID:23278-1668625200-1668628800@www.bibliotecapilarinbayes.cat
SUMMARY:CLUB DE LECTURA DE NOVEL·LA NEGRA: La neblina del ayer
DESCRIPTION:A la trobada del Club de lectura de Novel·la Negra del mes de novembre comentarem el llibre: \nLa neblina del ayer de Leonardo Padura \nA càrrec d’Elisabet Contreras \n  \nDia: Dimecres\, 16 de novembre de 2022 \nHora: 19:00 h. \nLloc: Biblioteca Pilarin Bayés de Vic
URL:https://www.bibliotecapilarinbayes.cat/activitat/club-de-lectura-de-novella-negra-la-neblina-del-ayer/
CATEGORIES:Adults
ATTACH;FMTTYPE=image/png:https://www.bibliotecapilarinbayes.cat/wp-content/uploads/2022/11/Agenda-la-neblina-del-ayer-CL-negra-novembre-22.png
END:VEVENT
BEGIN:VEVENT
DTSTART;TZID=Europe/Helsinki:20221115T180000
DTEND;TZID=Europe/Helsinki:20221115T190000
DTSTAMP:20260425T041842
CREATED:20221111T130121Z
LAST-MODIFIED:20221111T130200Z
UID:23383-1668535200-1668538800@www.bibliotecapilarinbayes.cat
SUMMARY:XERRADA PER A FAMÍLIES: Prestacions econòmiques vinculades a la discapacitat
DESCRIPTION:Sant Tomàs ha programat una xerrada adreçada a les famílies de l’entitat però també oberta a totes les persones que hi puguin estar interessades sobre les prestacions vinculades a la discapacitat. Es tracta d’una conferència de la treballadora social Elsa Salgado Álvarez sobre les prestacions econòmiques que existeixen relacionades amb la situació de discapacitat. \nDurant la xerrada\, impulsada pel Servei d’Atenció a les Famílies i Demandes\, la ponent recollirà les diverses prestacions habilitades per persones amb discapacitat que poden ser generades per la feina de la persona o bé pels seus familiars i obrirà un torn de preguntes per resoldre dubtes. Aquesta conferència respon a les peticions fetes per les famílies en les diferents edicions de les enquestes a famílies on posaven de manifest la necessitat de poder comptar amb una formació específica sobre aquest aspecte. \nElsa Salgado Álvarez és treballadora social\, politòloga i tècnica en gestió de prestacions. La sessió que compta amb el suport de Dincat i la Conselleria de Drets Socials \nDia: Dimarts\, 15 de novembre de 2022 \nHora: 18:00 h. \nLloc: Sala d’actes U d’Octubre de la Biblioteca Pilarin Bayés de Vic
URL:https://www.bibliotecapilarinbayes.cat/activitat/xerrada-per-a-families-prestacions-economiques-vinculades-a-la-discapacitat/
LOCATION:Sala d’actes U d’octubre
CATEGORIES:Adults
ATTACH;FMTTYPE=image/png:https://www.bibliotecapilarinbayes.cat/wp-content/uploads/2022/11/Agenda-sant-tomas-novembre-22.png
END:VEVENT
BEGIN:VEVENT
DTSTART;TZID=Europe/Helsinki:20221110T183000
DTEND;TZID=Europe/Helsinki:20221110T193000
DTSTAMP:20260425T041842
CREATED:20221018T082852Z
LAST-MODIFIED:20221104T115607Z
UID:22961-1668105000-1668108600@www.bibliotecapilarinbayes.cat
SUMMARY:CLUB DE LECTURA DONES I LITERATURA: "La societat literària i de pastís de pela de patata de Guernsey" de Mary Ann Shaffer i Annie Barrows
DESCRIPTION:A la trobada del Club de lectura de Dones i literatura comentarem el llibre “La societat literària i de pastís de pela de patata de Guernsey” de Mary Ann Shaffer i Annie Barrows. \nA càrrec de Rosa M. Rubio. \n  \nDia: Dijous\,10 de novembre de 2022  \nHora: 18:30 h. \nLloc: a la Biblioteca Pilarín Bayés de Vic.
URL:https://www.bibliotecapilarinbayes.cat/activitat/club-de-lectura-dones-i-literatura-la-societat-literaria-i-de-pastis-de-pela-de-patata-de-guernsey-de-mary-ann-shaffer-i-annie-barrows/
CATEGORIES:Adults
ATTACH;FMTTYPE=image/png:https://www.bibliotecapilarinbayes.cat/wp-content/uploads/2022/10/Cl-dones-i-literatura-Societat-literaria-i-de-pastis-de-pela-de-patata-de-Gernsey.png
END:VEVENT
BEGIN:VEVENT
DTSTART;TZID=Europe/Helsinki:20221110T170000
DTEND;TZID=Europe/Helsinki:20221110T180000
DTSTAMP:20260425T041842
CREATED:20221029T112444Z
LAST-MODIFIED:20221029T162340Z
UID:23218-1668099600-1668103200@www.bibliotecapilarinbayes.cat
SUMMARY:TALLER: Connecta't. Saps el que pots demanar a l'Administració?
DESCRIPTION:Des de les biblioteques públiques t’ajudem amb tallers d’alfabetització digital i petites càpsules formatives que et proporcionaran les habilitats per fer diversos tràmits en línia. \nDescobreix tot el que es pot fer des del teu dispositiu i aprèn a fer servir aplicacions i altres recursos\, sempre amb seguretat i protecció a la xarxa. L’objectiu d’aquests tallers és anar avançant en els teus aprenentatges pel món digital. \nAl programa de tallers Connecta’t hi ha sessions de molts àmbits diferents (aprendre a navegar per internet\, ús de dispositius mòbils\, edició de vídeos\, presentacions amb eines digitals\, xarxes socials…). \nEn aquesta sessió aprendrem a relacionar-nos amb l’administració des del punt de vista digital: \n\nDemana cita al CAP i accedeix a la meva salut\nCom obtenir l’IdCAT Mòbil\nSignar documents electrònics\nPagar o gestionar tributs\nDemanar una subvenció a la Generalitat o un carnet de família nombrosa\neTRAM o com accedir als tràmits generals\nCom preparar un Factura electrònica\nTramitar la sol·licitud de Renda Mínima Garantida\nInscripció al SOC\nConsultar la teva informació amb l’Agència Tributària o fer gestions\nTramitació de beques\nAssistència jurídica gratuïta\nDemanar el volant d’empadronament\n\n \nEl taller Connecta’t: Saps què pots demanar a l’Administració? es farà: \nDimecres\, 10 d’octubre de 2022 a les 17:00 h. a l’Aula d’informàtica ACTIC de la Biblioteca Pilarin Bayés de Vic
URL:https://www.bibliotecapilarinbayes.cat/activitat/taller-connectat-saps-el-que-pots-demanar-a-ladministracio/
LOCATION:Aula d’informàtica ACTIC
CATEGORIES:Adults,Joves,Tallers
ATTACH;FMTTYPE=image/png:https://www.bibliotecapilarinbayes.cat/wp-content/uploads/2022/10/Agenda-Connectat-10nov.png
END:VEVENT
BEGIN:VEVENT
DTSTART;TZID=Europe/Helsinki:20221109T170000
DTEND;TZID=Europe/Helsinki:20221109T180000
DTSTAMP:20260425T041842
CREATED:20221102T131757Z
LAST-MODIFIED:20221102T132501Z
UID:23209-1668013200-1668016800@www.bibliotecapilarinbayes.cat
SUMMARY:Escape Room de Gabriel Ferrater
DESCRIPTION:Amb motiu de l’Any Gabriel Ferrater que enguany commemora el centenari del seu naixement i cinquanta anys de la seva mort\, la biblioteca Pilarin Bayés de Vic us convida a participar a l’Escape Room de Gabriel Ferrater. \nEs tracta d’un joc en el qual els participants han de fer servir l’enginy i la deducció per resoldre diferents enigmes i puzles i així poder trobar una versió inèdita del poema In Memoriam de Gabriel Ferrater.\nLa proposta va sorgir per l’impuls de Biblioteques Municipals de Reus. \nDirigit a persones de totes les edats a partir de 12 anys amb la intenció de motivar el seu enginy i conèixer millor\, a través del joc\, la vida i obra de Gabriel Ferrater\, en especial a estudiants d’institut i a usuaris de biblioteques. \nPer saber-ne més: Any Gabriel Ferrater
URL:https://www.bibliotecapilarinbayes.cat/activitat/escape-room-de-gabriel-ferrater/
CATEGORIES:Adults,Joves
ATTACH;FMTTYPE=image/png:https://www.bibliotecapilarinbayes.cat/wp-content/uploads/2022/10/Ag-Escape-room-Gabriel-Ferrater.png
END:VEVENT
BEGIN:VEVENT
DTSTART;TZID=Europe/Helsinki:20221108T190000
DTEND;TZID=Europe/Helsinki:20221108T200000
DTSTAMP:20260425T041842
CREATED:20221107T191823Z
LAST-MODIFIED:20221107T192312Z
UID:23352-1667934000-1667937600@www.bibliotecapilarinbayes.cat
SUMMARY:Presentació de llibre: Memòries d'H
DESCRIPTION:La Biblioteca Pilarin Bayés de Vic\, juntament amb H. Associació per a les Arts Contemporànies\, l’Ajuntament de Vic i la llibreria Foster & Wallace us conviden a la presentació del llibre Memòries d’H 1991-2021 Trenta anys d’Arts Contemporànies. \nAmb la intervenció de: \n\nMarià Dinarès\, president d’H.AAC\nOriol Picas\, director del MEV\nConxita Oliver\, crítica i historiadora de l’art\nBet Piella\, regidora de cultura de l’Ajuntament de Vic\n\n  \nDia i hora: Dimarts 8 de novembre de 2022  –  19:00 h. \nLloc: Sala d’Actes U d’octubre de la Biblioteca Pilarin Bayés de Vic
URL:https://www.bibliotecapilarinbayes.cat/activitat/presentacio-de-llibre-memories-dh/
LOCATION:Sala d’actes U d’octubre
CATEGORIES:Adults,Presentacions de llibres
ATTACH;FMTTYPE=image/jpeg:https://www.bibliotecapilarinbayes.cat/wp-content/uploads/2022/11/Memories-dH-8-novembre-1.jpg
END:VEVENT
BEGIN:VEVENT
DTSTART;TZID=Europe/Helsinki:20221105T110000
DTEND;TZID=Europe/Helsinki:20221105T120000
DTSTAMP:20260425T041842
CREATED:20221102T141407Z
LAST-MODIFIED:20221103T155108Z
UID:23255-1667646000-1667649600@www.bibliotecapilarinbayes.cat
SUMMARY:ORELLES VERDES: El viatge de la tortuga Ballaruga
DESCRIPTION:Amb motiu del centenari d’Elmer Bernstein\, la Biblioteca Pilarin Bayés us convida a la sessió de contes Orelles verdes El viatge de la tortuga Ballaruga a càrrec de Paula Lladó. \nAvorrida de viure tota sola\, la tortuga Ballaruga emprendrà un viatge musical per tal de conèixer món… \n  \nDia i hora: 5 de novembre  –  11:00 h. \nPer a famílies amb infants de 0 a 36 mesos. \nPlaces limitades! \nCal inscripció:  Tel. 93 883 33 25   //    b.vic.pb@diba.cat
URL:https://www.bibliotecapilarinbayes.cat/activitat/orelles-verdes-el-viatge-de-la-tortuga-ballaruga/
LOCATION:Sala d’actes U d’octubre
CATEGORIES:Infantil,Orelles verdes
END:VEVENT
BEGIN:VEVENT
DTSTART;TZID=Europe/Helsinki:20221104T200000
DTEND;TZID=Europe/Helsinki:20221104T210000
DTSTAMP:20260425T041842
CREATED:20221029T100920Z
LAST-MODIFIED:20221029T101411Z
UID:23200-1667592000-1667595600@www.bibliotecapilarinbayes.cat
SUMMARY:ESPECTACLE POÈTIC: "Tra-dició/Tra-ïció"
DESCRIPTION:Les poetes Raquel Santanera i Oriol Sauleda s’han preguntat (abans ja ho va fer W. Blake en un poema): «Qui féu l’Anyell et féu també a tu?» i\, també\, «el Tra-Tra de la tradició i la traïció si fossin dos sons que neixen bessons\, quin dels sos seria el maligne i quin seria el bo?» Són certament dues preguntes\, però són les preguntes claus. Probablement\, res del que passi en aquest espectacle que invocarà poetes d’ultratomba i del Tra-Tra no seria el mateix si no es comptés amb la música de dolça i rasposa humanitat divina de Valentina Risi. Si s’ha de respondre que sí o que no existeixen els dobles i tot és el mateix\, ja ho veurem i ho direm amb calma. \nAmb Veu Pròpia\, Accions poètiques 2022\, és el cicle d’espectacles que tenen la poesia com a eix vertebrador. \nAmb Veu Pròpia s’organitza conjuntament amb l’Ajuntament de Vic\, l’Ajuntament de Tavèrnoles i la Fundació Martí i Pol\, i està obert a tots els municipis que vulguin adherir-s’hi amb un espectacle poètic. L’objectiu és que la poesia arribi de forma interdisciplinària a tots els públics. \nMés informació: Amb veu pròpia. Accions poètiques 2022 \nL’espectacle poètic Tra-dició/Tra-ïció amb Raquel Santanera\, Oriol Sauleda i Valentina Risi es farà: \nDivendres\, 4 de novembre de 2022 a les 20:00 h. a la Sala d’Actes U d’Octubre de la Biblioteca Pilarin Bayés de Vic
URL:https://www.bibliotecapilarinbayes.cat/activitat/espectacle-poetic-tra-dicio-tra-icio/
LOCATION:Sala d’actes U d’octubre
CATEGORIES:Adults,Joves
ATTACH;FMTTYPE=image/jpeg:https://www.bibliotecapilarinbayes.cat/wp-content/uploads/2022/10/Tra-dicio_Tra-icio.jpg
END:VEVENT
BEGIN:VEVENT
DTSTART;TZID=Europe/Helsinki:20221104T190000
DTEND;TZID=Europe/Helsinki:20221104T200000
DTSTAMP:20260425T041842
CREATED:20221029T094720Z
LAST-MODIFIED:20221029T092948Z
UID:23179-1667588400-1667592000@www.bibliotecapilarinbayes.cat
SUMMARY:PRESENTACIÓ DE LLIBRE: Llàgrimes eixutes de Joan Roca
DESCRIPTION:La Biblioteca Pilarin Bayés de Vic us convida a la presentació del llibre Llàgrimes eixutes de l’autor vigatà Joan Roca i Casals (Vic\, 1955 –  ). \nDurant la seva vida laboral\, l’autor vigatà ha exercit de professor de català i literatura catalana a l’escola Vedruna de Tona\, una tasca que ha compaginat amb l’escriptura i ha obtingut diversos premis literatura. És autor de diversos llibres\, entre els quals novel·les\, relats curts\, obres de teatre i contes i novel·les infantils. Després de la seva jubilació\, ja es pot dedicar exclusivament a escriure i Llàgrimes eixutes és el segon llibre que publica en aquesta nova etapa. \nPresentació a càrrec de l’autor\, Joan Roma i d’Adelina Ruiz\, presidenta de SOS Bebés Robados Catalunya; Anna Páez\, secretària de SOS Bebés Robados Catalunya i Juli Roma\, advocat. Amb la participació de Pep Simon\, actor i director teatral.
URL:https://www.bibliotecapilarinbayes.cat/activitat/presentacio-de-llibre-llagrimes-eixutes-de-joan-roca/
LOCATION:Sala infantil
CATEGORIES:Adults,Presentacions de llibres
ATTACH;FMTTYPE=image/png:https://www.bibliotecapilarinbayes.cat/wp-content/uploads/2022/10/Agenda-Llagrimes-eixutes.png
END:VEVENT
BEGIN:VEVENT
DTSTART;TZID=Europe/Helsinki:20221102T190000
DTEND;TZID=Europe/Helsinki:20221102T200000
DTSTAMP:20260425T041842
CREATED:20221027T165407Z
LAST-MODIFIED:20221027T162223Z
UID:23175-1667415600-1667419200@www.bibliotecapilarinbayes.cat
SUMMARY:CONFERÈNCIA-CONCERT: "El naixement de la música al cinema: Bernard Hermann\, Elmer Bernstein i John Williams"
DESCRIPTION:En commemoració del centenari del naixement del compositor novayorquès Elmer Bernstein\, autor de bandes sonores d’obres mestres cinematogràfiques com Els set magnífics\, La gran evasió i Matar un rossinyol\, aprofitarem per fer un concert de piano comentat per contextualitzar amb obres tant d’ell com d’altres dos grans de la música al cinema: Bernard Hermann i John Williams. \nAmb aquest repertori musical explorarem la música clàssica al cinema al llarg dels anys i com pren un llenguatge formal propi. \nA càrrec de Plataforma Blanc i Negre \nDimecres\, 2 de novembre de 2022 a les 19:00 h. a la Biblioteca Pilarin Bayés de Vic
URL:https://www.bibliotecapilarinbayes.cat/activitat/conferencia-concert-el-naixement-de-la-musica-al-cinema-bernard-hermann-elmer-bernstein-i-john-williams/
LOCATION:Sala d’actes U d’octubre
CATEGORIES:Adults,Conferències i xerrades
ATTACH;FMTTYPE=image/png:https://www.bibliotecapilarinbayes.cat/wp-content/uploads/2022/10/conferencia-bernstein-agenda.png
END:VEVENT
BEGIN:VEVENT
DTSTART;TZID=Europe/Helsinki:20221027T190000
DTEND;TZID=Europe/Helsinki:20221027T200000
DTSTAMP:20260425T041842
CREATED:20221025T085505Z
LAST-MODIFIED:20221025T085008Z
UID:23085-1666897200-1666900800@www.bibliotecapilarinbayes.cat
SUMMARY:CONFERÈNCIA: "L'art com a superació de les malalties físiques i mentals"
DESCRIPTION:Amb motiu del Dia Mundial de la Salut Mental que cada any es commemora durant el mes d’octubre\, la Biblioteca Pilarín Bayés de Vic us convida a la conferència “L’art com a superació de les malalties físiques i mentals. El cas de Charles Schulz”. \nLa conferència gira entorn a les dues principals dificultats mèdiques que va patir l’autor mentre dibuixava els cèlebres còmics de Charlie Brown i Snoopy. La seva depressió va fer-li omplir les vinyetes d’estranys malsons i obsessions\, sempre presents en la seva obra i la seva vida diària\, tot i que alhora van acabant catapultant a la fama. A més a més\, a això s’hi van sumar dolències  físiques\, atès que durant les seves dues últimes dècades de carrera\, les tremolors que patia Schulz eren tan intenses que aviat es van tornar impossibles de dissimular en els seus dibuixos. \nEnguany també es commemora el centenari del naixement de Schulz\, creador d’una nova manera d’entendre les tires de premsa amb la seva sèrie Peanuts\, més coneguda a casa nostra com Snoopy i Charlie Brown. Amb Peanuts\, va crear un univers molt particular de personatges menuts\, tots nens i nenes (els adults mai apareixen)\, que en realitat reflexionen i interactuen com a adults\, reflectint\, a la seva manera\, el món en el que viuen i el que podríem anomenar el teatre de la vida. \nConferència càrrec de la Plataforma Blanc i Negre \nDijous\, 27 d’octubre de 2022 a les 19:00 h. a la Sala d’actes U d’octubre de la Biblioteca Pilarín Bayés de Vic.
URL:https://www.bibliotecapilarinbayes.cat/activitat/conferencia-lart-com-a-superacio-de-les-malalties-fisiques-i-mentals/
LOCATION:Sala d’actes U d’octubre
CATEGORIES:Adults,Conferències i xerrades,Joves
ATTACH;FMTTYPE=image/png:https://www.bibliotecapilarinbayes.cat/wp-content/uploads/2022/10/Charles-schulz.png
END:VEVENT
BEGIN:VEVENT
DTSTART;TZID=Europe/Helsinki:20221026T190000
DTEND;TZID=Europe/Helsinki:20221026T200000
DTSTAMP:20260425T041842
CREATED:20221011T111359Z
LAST-MODIFIED:20221018T091558Z
UID:22837-1666810800-1666814400@www.bibliotecapilarinbayes.cat
SUMMARY:CLUB DE LECTURA DE NOVEL·LA NEGRA: "Amb l'aigua fins al coll" de Petros Màrkaris
DESCRIPTION:La sessió del mes d’octubre del Club de lectura de novel·la negra estarà dedicada al llibre “Amb l’aigua fins al coll” de Petros Màrkaris. \nA càrrec d’Elisabet Contreras. \nDimecres\, 26 d’octubre de 2022 a les 19:00 h. a la Biblioteca Pilarín Bayés de Vic.
URL:https://www.bibliotecapilarinbayes.cat/activitat/club-de-lectura-de-novel%c2%b7la-negra-amb-laigua-fins-al-coll-de-petros-markaris/
LOCATION:Sala d’actes U d’octubre
CATEGORIES:Adults
ATTACH;FMTTYPE=image/png:https://www.bibliotecapilarinbayes.cat/wp-content/uploads/2022/10/amb-laigua-fins-al-coll-1.png
END:VEVENT
BEGIN:VEVENT
DTSTART;TZID=Europe/Helsinki:20221022T110000
DTEND;TZID=Europe/Helsinki:20221022T120000
DTSTAMP:20260425T041842
CREATED:20221019T121006Z
LAST-MODIFIED:20221020T145700Z
UID:22998-1666436400-1666440000@www.bibliotecapilarinbayes.cat
SUMMARY:XERRADA: "El Busbici a Vic!"
DESCRIPTION:
URL:https://www.bibliotecapilarinbayes.cat/activitat/xerrada-el-busbici-a-vic/
LOCATION:Sala d’actes U d’octubre
CATEGORIES:Adults
ATTACH;FMTTYPE=image/png:https://www.bibliotecapilarinbayes.cat/wp-content/uploads/2022/10/web-busbici.png
END:VEVENT
BEGIN:VEVENT
DTSTART;TZID=Europe/Helsinki:20221019T190000
DTEND;TZID=Europe/Helsinki:20221019T200000
DTSTAMP:20260425T041842
CREATED:20221019T112931Z
LAST-MODIFIED:20221019T112931Z
UID:22994-1666206000-1666209600@www.bibliotecapilarinbayes.cat
SUMMARY:TAULA RODONA: "De la vida al crim literari"
DESCRIPTION:En el marc del programa Llegim més que enguany està dedicat a la Novel·la Negra\, la Biblioteca Pilarín Bayés us convida a assistir a la taula rodona “De la vida al crim literari”. \nAmb Yago García\, Fàtima Llambrich i Tura Soler. Moderador: Víctor Palomar.
URL:https://www.bibliotecapilarinbayes.cat/activitat/taula-rodona-de-la-vida-al-crim-literari/
LOCATION:Sala d’actes U d’octubre
CATEGORIES:Adults
ATTACH;FMTTYPE=image/png:https://www.bibliotecapilarinbayes.cat/wp-content/uploads/2022/10/taula-rodona-de-la-vida-al-crim-literari.png
END:VEVENT
BEGIN:VEVENT
DTSTART;TZID=Europe/Helsinki:20221013T183000
DTEND;TZID=Europe/Helsinki:20221013T193000
DTSTAMP:20260425T041842
CREATED:20221011T173422Z
LAST-MODIFIED:20221011T175123Z
UID:22929-1665685800-1665689400@www.bibliotecapilarinbayes.cat
SUMMARY:Taula rodona: "Què haurien de menjar els nostres fills?"
DESCRIPTION:Taula rodona: “Què haurien de menjar els nostres fills?“ a càrrec de Julio Basulto\, Concepció Font i Cristina Vaqué. Moderadora: Txell Vilamala
URL:https://www.bibliotecapilarinbayes.cat/activitat/taula-rodona-que-haurien-de-menjar-els-nostres-fills/
LOCATION:Sala d’actes U d’octubre
CATEGORIES:Adults
ATTACH;FMTTYPE=image/jpeg:https://www.bibliotecapilarinbayes.cat/wp-content/uploads/2022/10/TAULA-RODONA-NUTRICIO.jpg
END:VEVENT
BEGIN:VEVENT
DTSTART;TZID=Europe/Helsinki:20220602T183000
DTEND;TZID=Europe/Helsinki:20220602T193000
DTSTAMP:20260425T041842
CREATED:20220601T072246Z
LAST-MODIFIED:20220928T071924Z
UID:21209-1654194600-1654198200@www.bibliotecapilarinbayes.cat
SUMMARY:CLUB DE LECTURA DONES I LITERATURA: ' El crit' de Blanca Busquets
DESCRIPTION:A la propera tertúlia comentarem el llibre ‘El crit’ de Blanca Busquets. \nLes sessions són conduïdes per Rosa M. Rubio Gutiérrez. \nDijous\, 2 de juny 2022 a les 18:30 h. \nLa sessió es farà a la Biblioteca Joan Triadú.
URL:https://www.bibliotecapilarinbayes.cat/activitat/club-de-lectura-dones-i-literatura-el-crit-de-blanca-busquets/
CATEGORIES:Adults
END:VEVENT
BEGIN:VEVENT
DTSTART;TZID=Europe/Helsinki:20220601T184500
DTEND;TZID=Europe/Helsinki:20220601T194500
DTSTAMP:20260425T041842
CREATED:20220601T072836Z
LAST-MODIFIED:20220601T072836Z
UID:21212-1654109100-1654112700@www.bibliotecapilarinbayes.cat
SUMMARY:CLUB DE LECTURA EN FRANCÈS: 'L’amant de la Chine du nord' de Marguerite Duras
DESCRIPTION:Durant el mes d’abril comentarem el llibre ‘L’amant de la Chine du nord’ de Marguerite Duras.  \nDimecres\, 1 de juny 2022\, a les 18:45 h. \nLa trobada es farà a la Biblioteca Joan Triadú.
URL:https://www.bibliotecapilarinbayes.cat/activitat/club-de-lectura-en-frances-lamant-de-la-chine-du-nord-de-marguerite-duras/
END:VEVENT
END:VCALENDAR